BEGIN:VCALENDAR
VERSION:2.0
PRODID:-//San Gabriel Masonic Lodge #89 - ECPv6.15.20//NONSGML v1.0//EN
CALSCALE:GREGORIAN
METHOD:PUBLISH
X-WR-CALNAME:San Gabriel Masonic Lodge #89
X-ORIGINAL-URL:https://sangabriel89.com
X-WR-CALDESC:Events for San Gabriel Masonic Lodge #89
REFRESH-INTERVAL;VALUE=DURATION:PT1H
X-Robots-Tag:noindex
X-PUBLISHED-TTL:PT1H
BEGIN:VTIMEZONE
TZID:America/Chicago
BEGIN:DAYLIGHT
TZOFFSETFROM:-0600
TZOFFSETTO:-0500
TZNAME:CDT
DTSTART:20250309T080000
END:DAYLIGHT
BEGIN:STANDARD
TZOFFSETFROM:-0500
TZOFFSETTO:-0600
TZNAME:CST
DTSTART:20251102T070000
END:STANDARD
BEGIN:DAYLIGHT
TZOFFSETFROM:-0600
TZOFFSETTO:-0500
TZNAME:CDT
DTSTART:20260308T080000
END:DAYLIGHT
BEGIN:STANDARD
TZOFFSETFROM:-0500
TZOFFSETTO:-0600
TZNAME:CST
DTSTART:20261101T070000
END:STANDARD
BEGIN:DAYLIGHT
TZOFFSETFROM:-0600
TZOFFSETTO:-0500
TZNAME:CDT
DTSTART:20270314T080000
END:DAYLIGHT
BEGIN:STANDARD
TZOFFSETFROM:-0500
TZOFFSETTO:-0600
TZNAME:CST
DTSTART:20271107T070000
END:STANDARD
END:VTIMEZONE
BEGIN:VEVENT
DTSTART;VALUE=DATE:20260418
DTEND;VALUE=DATE:20260419
DTSTAMP:20260420T040527
CREATED:20250331T004241Z
LAST-MODIFIED:20250331T005130Z
UID:13212-1776470400-1776556799@sangabriel89.com
SUMMARY:GEORGETOWN TWO STEP INN - EVENT
DESCRIPTION:
URL:https://sangabriel89.com/event/georgetown-two-step-inn-event/
LOCATION:San Gabriel Park    Georgetown\, TX\, 1003 N Austin Ave\, Georgetown\, TX\, 78626\, United States
END:VEVENT
BEGIN:VEVENT
DTSTART;VALUE=DATE:20260418
DTEND;VALUE=DATE:20260420
DTSTAMP:20260420T040527
CREATED:20250331T004607Z
LAST-MODIFIED:20250331T004607Z
UID:13214-1776470400-1776643199@sangabriel89.com
SUMMARY:Georgetown "Two Step Inn" Event
DESCRIPTION:
URL:https://sangabriel89.com/event/georgetown-two-step-inn-event-2/
LOCATION:San Gabriel Park – Georgetown TX
END:VEVENT
END:VCALENDAR